Workbook
Name NJPW_Wrestle_Kingdom_XI: 'Attendance Stats'!#REF!
Name NJPW_Wrestle_Kingdom_XI: #REF!
Name Slicer_Promotion: #N/A
Name Slicer_Show_Name: #N/A

Sheet Star Ratings (TOP 500)
A1: WRESTLING OBSERVER NEWSLETTER STAR RATINGS (TOP 500)
A2: ID | B2: Star Rating | C2: Date | D2: Year | E2: Winner(s) | F2: Loser(s) | G2: Promotion | H2: Championship | I2: Show Name
A3: ="ID" & (ROW(A3)-2) -> ID1 | B3: 7 | C3: June 9th | D3: 2018 | E3: Kenny Omega | F3: Kazuchika Okada | G3: =LOOKUP(I3,{"1PW";"AAA";"AEW";"AEW/NJPW";"AJPW";"AJW";"BJW";"CMLL";"CWF";"Dragon Gate";"ECW";"JTO";"JWP";"Michinoku Pro";"NEW";"NJPW";"NJPW/RevPro";"OTT";"NXT";"NOAH";"NWA";"PWG";"RevPro";"ROH";"SMW";"ROH/NJPW";"STARDOM";"TNA";"UWF";"WCW";"WCW/AAA";"West Coast";"Wrestlecon";"WWE";"WWF";"WWW"},{"1PW";"AAA";"AEW";"AEW/NJPW";"AJPW";"AJW";"BJW";"CMLL";"CWF";"Dragon Gate";"ECW";"JTO";"JWP";"Michinoku Pro";"NEW";"NJPW";"NJPW/RevPro";"OTT";"NXT";"NOAH";"NWA";"PWG";"RevPro";"ROH";"SMW";"ROH/NJPW";"STARDOM";"TNA";"UWF";"WCW";"WCW/AAA";"West Coast";"Wrestlecon";"WWE";"WWF";"WWW"}) -> NJPW | H3: IWGP Heavyweight Title | I3: NJPW Dominion 6.9 In Osaka-Jo Hall
A4: ="ID" & (ROW(A4)-2) -> ID2 | B4: 6.25 | C4: June 11th | D4: 2017 | E4: Kazuchika Okada | F4: Kenny Omega | G4: =LOOKUP(I4,{"1PW";"AAA";"AEW";"AEW/NJPW";"AJPW";"AJW";"BJW";"CMLL";"CWF";"Dragon Gate";"ECW";"JTO";"JWP";"Michinoku Pro";"NEW";"NJPW";"NJPW/RevPro";"OTT";"NXT";"NOAH";"NWA";"PWG";"RevPro";"ROH";"SMW";"ROH/NJPW";"STARDOM";"TNA";"UWF";"WCW";"WCW/AAA";"West Coast";"Wrestlecon";"WWE";"WWF";"WWW"},{"1PW";"AAA";"AEW";"AEW/NJPW";"AJPW";"AJW";"BJW";"CMLL";"CWF";"Dragon Gate";"ECW";"JTO";"JWP";"Michinoku Pro";"NEW";"NJPW";"NJPW/RevPro";"OTT";"NXT";"NOAH";"NWA";"PWG";"RevPro";"ROH";"SMW";"ROH/NJPW";"STARDOM";"TNA";"UWF";"WCW";"WCW/AAA";"West Coast";"Wrestlecon";"WWE";"WWF";"WWW"}) -> NJPW | H4: IWGP Heavyweight Title | I4: NJPW Dominion 6.11
A5: ="ID" & (ROW(A5)-2) -> ID3 | B5: 6.25 | C5: January 4th | D5: 2023 | E5: Kenny Omega | F5: Will Ospreay | G5: =LOOKUP(I5,{"1PW";"AAA";"AEW";"AEW/NJPW";"AJPW";"AJW";"BJW";"CMLL";"CWF";"Dragon Gate";"ECW";"JTO";"JWP";"Michinoku Pro";"NEW";"NJPW";"NJPW/RevPro";"OTT";"NXT";"NOAH";"NWA";"PWG";"RevPro";"ROH";"SMW";"ROH/NJPW";"STARDOM";"TNA";"UWF";"WCW";"WCW/AAA";"West Coast";"Wrestlecon";"WWE";"WWF";"WWW"},{"1PW";"AAA";"AEW";"AEW/NJPW";"AJPW";"AJW";"BJW";"CMLL";"CWF";"Dragon Gate";"ECW";"JTO";"JWP";"Michinoku Pro";"NEW";"NJPW";"NJPW/RevPro";"OTT";"NXT";"NOAH";"NWA";"PWG";"RevPro";"ROH";"SMW";"ROH/NJPW";"STARDOM";"TNA";"UWF";"WCW";"WCW/AAA";"West Coast";"Wrestlecon";"WWE";"WWF";"WWW"}) -> NJPW | H5: IWGP United States Heavyweight Title | I5: NJPW Wrestle Kingdom 17
A6: ="ID" & (ROW(A6)-2) -> ID4 | B6: 6 | C6: Feburary 29th | D6: 2020 | E6: Adam Page, Kenny Omega | F6: Matt Jackson, Nick Jackson | G6: =LOOKUP(I6,{"1PW";"AAA";"AEW";"AEW/NJPW";"AJPW";"AJW";"BJW";"CMLL";"CWF";"Dragon Gate";"ECW";"JTO";"JWP";"Michinoku Pro";"NEW";"NJPW";"NJPW/RevPro";"OTT";"NXT";"NOAH";"NWA";"PWG";"RevPro";"ROH";"SMW";"ROH/NJPW";"STARDOM";"TNA";"UWF";"WCW";"WCW/AAA";"West Coast";"Wrestlecon";"WWE";"WWF";"WWW"},{"1PW";"AAA";"AEW";"AEW/NJPW";"AJPW";"AJW";"BJW";"CMLL";"CWF";"Dragon Gate";"ECW";"JTO";"JWP";"Michinoku Pro";"NEW";"NJPW";"NJPW/RevPro";"OTT";"NXT";"NOAH";"NWA";"PWG";"RevPro";"ROH";"SMW";"ROH/NJPW";"STARDOM";"TNA";"UWF";"WCW";"WCW/AAA";"West Coast";"Wrestlecon";"WWE";"WWF";"WWW"}) -> AEW | H6: AEW Tag Team Title | I6: AEW Revolution
A7: ="ID" & (ROW(A7)-2) -> ID5 | B7: 6 | C7: June 25th | D7: 2023 | E7: Will Ospreay | F7: Kenny Omega | G7: =LOOKUP(I7,{"1PW";"AAA";"AEW";"AEW/NJPW";"AJPW";"AJW";"BJW";"CMLL";"CWF";"Dragon Gate";"ECW";"JTO";"JWP";"Michinoku Pro";"NEW";"NJPW";"NJPW/RevPro";"OTT";"NXT";"NOAH";"NWA";"PWG";"RevPro";"ROH";"SMW";"ROH/NJPW";"STARDOM";"TNA";"UWF";"WCW";"WCW/AAA";"West Coast";"Wrestlecon";"WWE";"WWF";"WWW"},{"1PW";"AAA";"AEW";"AEW/NJPW";"AJPW";"AJW";"BJW";"CMLL";"CWF";"Dragon Gate";"ECW";"JTO";"JWP";"Michinoku Pro";"NEW";"NJPW";"NJPW/RevPro";"OTT";"NXT";"NOAH";"NWA";"PWG";"RevPro";"ROH";"SMW";"ROH/NJPW";"STARDOM";"TNA";"UWF";"WCW";"WCW/AAA";"West Coast";"Wrestlecon";"WWE";"WWF";"WWW"}) -> AEW/NJPW | H7: IWGP United States Heavyweight Title | I7: AEW/NJPW Forbidden Door 2023
A8: ="ID" & (ROW(A8)-2) -> ID6 | B8: 6 | C8: August 12th | D8: 2017 | E8: Kenny Omega | F8: Kazuchika Okada | G8: =LOOKUP(I8,{"1PW";"AAA";"AEW";"AEW/NJPW";"AJPW";"AJW";"BJW";"CMLL";"CWF";"Dragon Gate";"ECW";"JTO";"JWP";"Michinoku Pro";"NEW";"NJPW";"NJPW/RevPro";"OTT";"NXT";"NOAH";"NWA";"PWG";"RevPro";"ROH";"SMW";"ROH/NJPW";"STARDOM";"TNA";"UWF";"WCW";"WCW/AAA";"West Coast";"Wrestlecon";"WWE";"WWF";"WWW"},{"1PW";"AAA";"AEW";"AEW/NJPW";"AJPW";"AJW";"BJW";"CMLL";"CWF";"Dragon Gate";"ECW";"JTO";"JWP";"Michinoku Pro";"NEW";"NJPW";"NJPW/RevPro";"OTT";"NXT";"NOAH";"NWA";"PWG";"RevPro";"ROH";"SMW";"ROH/NJPW";"STARDOM";"TNA";"UWF";"WCW";"WCW/AAA";"West Coast";"Wrestlecon";"WWE";"WWF";"WWW"}) -> NJPW | I8: NJPW G1 Climax 2017 - Day 18
A9: ="ID" & (ROW(A9)-2) -> ID7 | B9: 6 | C9: August 12th | D9: 2017 | E9: Tetsuya Naito | F9: Will Ospreay | G9: =LOOKUP(I9,{"1PW";"AAA";"AEW";"AEW/NJPW";"AJPW";"AJW";"BJW";"CMLL";"CWF";"Dragon Gate";"ECW";"JTO";"JWP";"Michinoku Pro";"NEW";"NJPW";"NJPW/RevPro";"OTT";"NXT";"NOAH";"NWA";"PWG";"RevPro";"ROH";"SMW";"ROH/NJPW";"STARDOM";"TNA";"UWF";"WCW";"WCW/AAA";"West Coast";"Wrestlecon";"WWE";"WWF";"WWW"},{"1PW";"AAA";"AEW";"AEW/NJPW";"AJPW";"AJW";"BJW";"CMLL";"CWF";"Dragon Gate";"ECW";"JTO";"JWP";"Michinoku Pro";"NEW";"NJPW";"NJPW/RevPro";"OTT";"NXT";"NOAH";"NWA";"PWG";"RevPro";"ROH";"SMW";"ROH/NJPW";"STARDOM";"TNA";"UWF";"WCW";"WCW/AAA";"West Coast";"Wrestlecon";"WWE";"WWF";"WWW"}) -> NJPW | I9: NJPW G1 Climax 2023 - Day 18
A10: ="ID" & (ROW(A10)-2) -> ID8 | B10: 6 | C10: January 4th | D10: 2017 | E10: Kazuchika Okada | F10: Kenny Omega | G10: =LOOKUP(I10,{"1PW";"AAA";"AEW";"AEW/NJPW";"AJPW";"AJW";"BJW";"CMLL";"CWF";"Dragon Gate";"ECW";"JTO";"JWP";"Michinoku Pro";"NEW";"NJPW";"NJPW/RevPro";"OTT";"NXT";"NOAH";"NWA";"PWG";"RevPro";"ROH";"SMW";"ROH/NJPW";"STARDOM";"TNA";"UWF";"WCW";"WCW/AAA";"West Coast";"Wrestlecon";"WWE";"WWF";"WWW"},{"1PW";"AAA";"AEW";"AEW/NJPW";"AJPW";"AJW";"BJW";"CMLL";"CWF";"Dragon Gate";"ECW";"JTO";"JWP";"Michinoku Pro";"NEW";"NJPW";"NJPW/RevPro";"OTT";"NXT";"NOAH";"NWA";"PWG";"RevPro";"ROH";"SMW";"ROH/NJPW";"STARDOM";"TNA";"UWF";"WCW";"WCW/AAA";"West Coast";"Wrestlecon";"WWE";"WWF";"WWW"}) -> NJPW | H10: IWGP Heavyweight Title | I10: NJPW Wrestle Kingdom XI
A11: ="ID" & (ROW(A11)-2) -> ID9 | B11: 6 | C11: May 4th | D11: 2021 | E11: Will Ospreay | F11: Shingo Takagi | G11: =LOOKUP(I11,{"1PW";"AAA";"AEW";"AEW/NJPW";"AJPW";"AJW";"BJW";"CMLL";"CWF";"Dragon Gate";"ECW";"JTO";"JWP";"Michinoku Pro";"NEW";"NJPW";"NJPW/RevPro";"OTT";"NXT";"NOAH";"NWA";"PWG";"RevPro";"ROH";"SMW";"ROH/NJPW";"STARDOM";"TNA";"UWF";"WCW";"WCW/AAA";"West Coast";"Wrestlecon";"WWE";"WWF";"WWW"},{"1PW";"AAA";"AEW";"AEW/NJPW";"AJPW";"AJW";"BJW";"CMLL";"CWF";"Dragon Gate";"ECW";"JTO";"JWP";"Michinoku Pro";"NEW";"NJPW";"NJPW/RevPro";"OTT";"NXT";"NOAH";"NWA";"PWG";"RevPro";"ROH";"SMW";"ROH/NJPW";"STARDOM";"TNA";"UWF";"WCW";"WCW/AAA";"West Coast";"Wrestlecon";"WWE";"WWF";"WWW"}) -> NJPW | H11: IWGP Heavyweight Title | I11: NJPW Wrestling Dontaku 2021 - Day 2
A12: ="ID" & (ROW(A12)-2) -> ID10 | B12: 6 | C12: March 18th | D12: 1989 | E12: Ricky Steamboat | F12: Ric Flair | G12: WCW | H12: NWA World Heavyweight Title | I12: NWA Landover Show (March '89)
A13: ="ID" & (ROW(A13)-2) -> ID11 | B13: 5.75 | C13: September 5th | D13: 2021 | E13: Penta El Zero Miedo, Rey Fenix | F13: Matt Jackson, Nick Jackson | G13: =LOOKUP(I13,{"1PW";"AAA";"AEW";"AEW/NJPW";"AJPW";"AJW";"BJW";"CMLL";"CWF";"Dragon Gate";"ECW";"JTO";"JWP";"Michinoku Pro";"NEW";"NJPW";"NJPW/RevPro";"OTT";"NXT";"NOAH";"NWA";"PWG";"RevPro";"ROH";"SMW";"ROH/NJPW";"STARDOM";"TNA";"UWF";"WCW";"WCW/AAA";"West Coast";"Wrestlecon";"WWE";"WWF";"WWW"},{"1PW";"AAA";"AEW";"AEW/NJPW";"AJPW";"AJW";"BJW";"CMLL";"CWF";"Dragon Gate";"ECW";"JTO";"JWP";"Michinoku Pro";"NEW";"NJPW";"NJPW/RevPro";"OTT";"NXT";"NOAH";"NWA";"PWG";"RevPro";"ROH";"SMW";"ROH/NJPW";"STARDOM";"TNA";"UWF";"WCW";"WCW/AAA";"West Coast";"Wrestlecon";"WWE";"WWF";"WWW"}) -> AEW | H13: AEW World Tag Team Title | I13: AEW All Out 2021
A14: ="ID" & (ROW(A14)-2) -> ID12 | B14: 5.75 | C14: March 5th | D14: 2023 | E14: MJF | F14: Bryan Danielson | G14: =LOOKUP(I14,{"1PW";"AAA";"AEW";"AEW/NJPW";"AJPW";"AJW";"BJW";"CMLL";"CWF";"Dragon Gate";"ECW";"JTO";"JWP";"Michinoku Pro";"NEW";"NJPW";"NJPW/RevPro";"OTT";"NXT";"NOAH";"NWA";"PWG";"RevPro";"ROH";"SMW";"ROH/NJPW";"STARDOM";"TNA";"UWF";"WCW";"WCW/AAA";"West Coast";"Wrestlecon";"WWE";"WWF";"WWW"},{"1PW";"AAA";"AEW";"AEW/NJPW";"AJPW";"AJW";"BJW";"CMLL";"CWF";"Dragon Gate";"ECW";"JTO";"JWP";"Michinoku Pro";"NEW";"NJPW";"NJPW/RevPro";"OTT";"NXT";"NOAH";"NWA";"PWG";"RevPro";"ROH";"SMW";"ROH/NJPW";"STARDOM";"TNA";"UWF";"WCW";"WCW/AAA";"West Coast";"Wrestlecon";"WWE";"WWF";"WWW"}) -> AEW | H14: AEW World Heavyweight Title | I14: AEW Revolution 2023
A15: ="ID" & (ROW(A15)-2) -> ID13 | B15: 5.75 | C15: June 5th | D15: 2019 | E15: Will Ospreay | F15: Shingo Takagi | G15: =LOOKUP(I15,{"1PW";"AAA";"AEW";"AEW/NJPW";"AJPW";"AJW";"BJW";"CMLL";"CWF";"Dragon Gate";"ECW";"JTO";"JWP";"Michinoku Pro";"NEW";"NJPW";"NJPW/RevPro";"OTT";"NXT";"NOAH";"NWA";"PWG";"RevPro";"ROH";"SMW";"ROH/NJPW";"STARDOM";"TNA";"UWF";"WCW";"WCW/AAA";"West Coast";"Wrestlecon";"WWE";"WWF";"WWW"},{"1PW";"AAA";"AEW";"AEW/NJPW";"AJPW";"AJW";"BJW";"CMLL";"CWF";"Dragon Gate";"ECW";"JTO";"JWP";"Michinoku Pro";"NEW";"NJPW";"NJPW/RevPro";"OTT";"NXT";"NOAH";"NWA";"PWG";"RevPro";"ROH";"SMW";"ROH/NJPW";"STARDOM";"TNA";"UWF";"WCW";"WCW/AAA";"West Coast";"Wrestlecon";"WWE";"WWF";"WWW"}) -> NJPW | I15: NJPW Best of the Super Juinors XXVI - Day 15
A16: ="ID" & (ROW(A16)-2) -> ID14 | B16: 5.75 | C16: August 13th | D16: 2017 | E16: Tetsuya Naito | F16: Kenny Omega | G16: =LOOKUP(I16,{"1PW";"AAA";"AEW";"AEW/NJPW";"AJPW";"AJW";"BJW";"CMLL";"CWF";"Dragon Gate";"ECW";"JTO";"JWP";"Michinoku Pro";"NEW";"NJPW";"NJPW/RevPro";"OTT";"NXT";"NOAH";"NWA";"PWG";"RevPro";"ROH";"SMW";"ROH/NJPW";"STARDOM";"TNA";"UWF";"WCW";"WCW/AAA";"West Coast";"Wrestlecon";"WWE";"WWF";"WWW"},{"1PW";"AAA";"AEW";"AEW/NJPW";"AJPW";"AJW";"BJW";"CMLL";"CWF";"Dragon Gate";"ECW";"JTO";"JWP";"Michinoku Pro";"NEW";"NJPW";"NJPW/RevPro";"OTT";"NXT";"NOAH";"NWA";"PWG";"RevPro";"ROH";"SMW";"ROH/NJPW";"STARDOM";"TNA";"UWF";"WCW";"WCW/AAA";"West Coast";"Wrestlecon";"WWE";"WWF";"WWW"}) -> NJPW | I16: NJPW G1 Climax 2017 - Day 19
A17: ="ID" & (ROW(A17)-2) -> ID15 | B17: 5.75 | C17: August 12th | D17: 2018 | E17: Hiroshi Tanahashi | F17: Kota Ibushi | G17: =LOOKUP(I17,{"1PW";"AAA";"AEW";"AEW/NJPW";"AJPW";"AJW";"BJW";"CMLL";"CWF";"Dragon Gate";"ECW";"JTO";"JWP";"Michinoku Pro";"NEW";"NJPW";"NJPW/RevPro";"OTT";"NXT";"NOAH";"NWA";"PWG";"RevPro";"ROH";"SMW";"ROH/NJPW";"STARDOM";"TNA";"UWF";"WCW";"WCW/AAA";"West Coast";"Wrestlecon";"WWE";"WWF";"WWW"},{"1PW";"AAA";"AEW";"AEW/NJPW";"AJPW";"AJW";"BJW";"CMLL";"CWF";"Dragon Gate";"ECW";"JTO";"JWP";"Michinoku Pro";"NEW";"NJPW";"NJPW/RevPro";"OTT";"NXT";"NOAH";"NWA";"PWG";"RevPro";"ROH";"SMW";"ROH/NJPW";"STARDOM";"TNA";"UWF";"WCW";"WCW/AAA";"West Coast";"Wrestlecon";"WWE";"WWF";"WWW"}) -> NJPW | I17: NJPW G1 Climax 2018 - Day 19
A18: ="ID" & (ROW(A18)-2) -> ID16 | B18: 5.75 | C18: July 20th | D18: 2019 | E18: Kazuchika Okada | F18: Will Ospreay | G18: =LOOKUP(I18,{"1PW";"AAA";"AEW";"AEW/NJPW";"AJPW";"AJW";"BJW";"CMLL";"CWF";"Dragon Gate";"ECW";"JTO";"JWP";"Michinoku Pro";"NEW";"NJPW";"NJPW/RevPro";"OTT";"NXT";"NOAH";"NWA";"PWG";"RevPro";"ROH";"SMW";"ROH/NJPW";"STARDOM";"TNA";"UWF";"WCW";"WCW/AAA";"West Coast";"Wrestlecon";"WWE";"WWF";"WWW"},{"1PW";"AAA";"AEW";"AEW/NJPW";"AJPW";"AJW";"BJW";"CMLL";"CWF";"Dragon Gate";"ECW";"JTO";"JWP";"Michinoku Pro";"NEW";"NJPW";"NJPW/RevPro";"OTT";"NXT";"NOAH";"NWA";"PWG";"RevPro";"ROH";"SMW";"ROH/NJPW";"STARDOM";"TNA";"UWF";"WCW";"WCW/AAA";"West Coast";"Wrestlecon";"WWE";"WWF";"WWW"}) -> NJPW | I18: NJPW G1 Climax 2019 - Day 7
A19: ="ID" & (ROW(A19)-2) -> ID17 | B19: 5.75 | C19: August 18th | D19: 2022 | E19: Kazuchika Okada | F19: Will Ospreay | G19: =LOOKUP(I19,{"1PW";"AAA";"AEW";"AEW/NJPW";"AJPW";"AJW";"BJW";"CMLL";"CWF";"Dragon Gate";"ECW";"JTO";"JWP";"Michinoku Pro";"NEW";"NJPW";"NJPW/RevPro";"OTT";"NXT";"NOAH";"NWA";"PWG";"RevPro";"ROH";"SMW";"ROH/NJPW";"STARDOM";"TNA";"UWF";"WCW";"WCW/AAA";"West Coast";"Wrestlecon";"WWE";"WWF";"WWW"},{"1PW";"AAA";"AEW";"AEW/NJPW";"AJPW";"AJW";"BJW";"CMLL";"CWF";"Dragon Gate";"ECW";"JTO";"JWP";"Michinoku Pro";"NEW";"NJPW";"NJPW/RevPro";"OTT";"NXT";"NOAH";"NWA";"PWG";"RevPro";"ROH";"SMW";"ROH/NJPW";"STARDOM";"TNA";"UWF";"WCW";"WCW/AAA";"West Coast";"Wrestlecon";"WWE";"WWF";"WWW"}) -> NJPW | I19: NJPW G1 Climax 2022 - Day 20
A20: ="ID" & (ROW(A20)-2) -> ID18 | B20: 5.75 | C20: January 4th | D20: 2020 | E20: Kazuchika Okada | F20: Kota Ibushi | G20: =LOOKUP(I20,{"1PW";"AAA";"AEW";"AEW/NJPW";"AJPW";"AJW";"BJW";"CMLL";"CWF";"Dragon Gate";"ECW";"JTO";"JWP";"Michinoku Pro";"NEW";"NJPW";"NJPW/RevPro";"OTT";"NXT";"NOAH";"NWA";"PWG";"RevPro";"ROH";"SMW";"ROH/NJPW";"STARDOM";"TNA";"UWF";"WCW";"WCW/AAA";"West Coast";"Wrestlecon";"WWE";"WWF";"WWW"},{"1PW";"AAA";"AEW";"AEW/NJPW";"AJPW";"AJW";"BJW";"CMLL";"CWF";"Dragon Gate";"ECW";"JTO";"JWP";"Michinoku Pro";"NEW";"NJPW";"NJPW/RevPro";"OTT";"NXT";"NOAH";"NWA";"PWG";"RevPro";"ROH";"SMW";"ROH/NJPW";"STARDOM";"TNA";"UWF";"WCW";"WCW/AAA";"West Coast";"Wrestlecon";"WWE";"WWF";"WWW"}) -> NJPW | H20: IWGP Heavyweight Title | I20: NJPW Wrestle Kingdom 14 - Day 1
A21: ="ID" & (ROW(A21)-2) -> ID19 | B21: 5.75 | C21: January 5th | D21: 2022 | E21: Kazuchika Okada | F21: Will Ospreay | G21: =LOOKUP(I21,{"1PW";"AAA";"AEW";"AEW/NJPW";"AJPW";"AJW";"BJW";"CMLL";"CWF";"Dragon Gate";"ECW";"JTO";"JWP";"Michinoku Pro";"NEW";"NJPW";"NJPW/RevPro";"OTT";"NXT";"NOAH";"NWA";"PWG";"RevPro";"ROH";"SMW";"ROH/NJPW";"STARDOM";"TNA";"UWF";"WCW";"WCW/AAA";"West Coast";"Wrestlecon";"WWE";"WWF";"WWW"},{"1PW";"AAA";"AEW";"AEW/NJPW";"AJPW";"AJW";"BJW";"CMLL";"CWF";"Dragon Gate";"ECW";"JTO";"JWP";"Michinoku Pro";"NEW";"NJPW";"NJPW/RevPro";"OTT";"NXT";"NOAH";"NWA";"PWG";"RevPro";"ROH";"SMW";"ROH/NJPW";"STARDOM";"TNA";"UWF";"WCW";"WCW/AAA";"West Coast";"Wrestlecon";"WWE";"WWF";"WWW"}) -> NJPW | H21: IWGP Heavyweight Title | I21: NJPW Wrestle Kingdom 16 - Day 2
A22: ="ID" & (ROW(A22)-2) -> ID20 | B22: 5.75 | C22: January 4th | D22: 2019 | E22: Hiroshi Tanahashi | F22: Kenny Omega | G22: =LOOKUP(I22,{"1PW";"AAA";"AEW";"AEW/NJPW";"AJPW";"AJW";"BJW";"CMLL";"CWF";"Dragon Gate";"ECW";"JTO";"JWP";"Michinoku Pro";"NEW";"NJPW";"NJPW/RevPro";"OTT";"NXT";"NOAH";"NWA";"PWG";"RevPro";"ROH";"SMW";"ROH/NJPW";"STARDOM";"TNA";"UWF";"WCW";"WCW/AAA";"West Coast";"Wrestlecon";"WWE";"WWF";"WWW"},{"1PW";"AAA";"AEW";"AEW/NJPW";"AJPW";"AJW";"BJW";"CMLL";"CWF";"Dragon Gate";"ECW";"JTO";"JWP";"Michinoku Pro";"NEW";"NJPW";"NJPW/RevPro";"OTT";"NXT";"NOAH";"NWA";"PWG";"RevPro";"ROH";"SMW";"ROH/NJPW";"STARDOM";"TNA";"UWF";"WCW";"WCW/AAA";"West Coast";"Wrestlecon";"WWE";"WWF";"WWW"}) -> NJPW | H22: IWGP Heavyweight Title | I22: NJPW WrestleKingdom 13
A23: ="ID" & (ROW(A23)-2) -> ID21 | B23: 5.5 | C23: November 13th | D23: 2021 | E23: Adam Page | F23: Kenny Omega | G23: =LOOKUP(I23,{"1PW";"AAA";"AEW";"AEW/NJPW";"AJPW";"AJW";"BJW";"CMLL";"CWF";"Dragon Gate";"ECW";"JTO";"JWP";"Michinoku Pro";"NEW";"NJPW";"NJPW/RevPro";"OTT";"NXT";"NOAH";"NWA";"PWG";"RevPro";"ROH";"SMW";"ROH/NJPW";"STARDOM";"TNA";"UWF";"WCW";"WCW/AAA";"West Coast";"Wrestlecon";"WWE";"WWF";"WWW"},{"1PW";"AAA";"AEW";"AEW/NJPW";"AJPW";"AJW";"BJW";"CMLL";"CWF";"Dragon Gate";"ECW";"JTO";"JWP";"Michinoku Pro";"NEW";"NJPW";"NJPW/RevPro";"OTT";"NXT";"NOAH";"NWA";"PWG";"RevPro";"ROH";"SMW";"ROH/NJPW";"STARDOM";"TNA";"UWF";"WCW";"WCW/AAA";"West Coast";"Wrestlecon";"WWE";"WWF";"WWW"}) -> AEW | H23: AEW World Heavyweight Title | I23: AEW Full Gear 2021
A24: ="ID" & (ROW(A24)-2) -> ID22 | B24: 5.5 | C24: October 1st | D24: 2023 | E24: Bryan Danielson | F24: Zack Sabre Jr. | G24: =LOOKUP(I24,{"1PW";"AAA";"AEW";"AEW/NJPW";"AJPW";"AJW";"BJW";"CMLL";"CWF";"Dragon Gate";"ECW";"JTO";"JWP";"Michinoku Pro";"NEW";"NJPW";"NJPW/RevPro";"OTT";"NXT";"NOAH";"NWA";"PWG";"RevPro";"ROH";"SMW";"ROH/NJPW";"STARDOM";"TNA";"UWF";"WCW";"WCW/AAA";"West Coast";"Wrestlecon";"WWE";"WWF";"WWW"},{"1PW";"AAA";"AEW";"AEW/NJPW";"AJPW";"AJW";"BJW";"CMLL";"CWF";"Dragon Gate";"ECW";"JTO";"JWP";"Michinoku Pro";"NEW";"NJPW";"NJPW/RevPro";"OTT";"NXT";"NOAH";"NWA";"PWG";"RevPro";"ROH";"SMW";"ROH/NJPW";"STARDOM";"TNA";"UWF";"WCW";"WCW/AAA";"West Coast";"Wrestlecon";"WWE";"WWF";"WWW"}) -> AEW | I24: AEW WrestleDream
A25: ="ID" & (ROW(A25)-2) -> ID23 | B25: 5.5 | C25: June 4th | D25: 2018 | E25: Hiromu Takahashi | F25: Taiji Ishimori | G25: =LOOKUP(I25,{"1PW";"AAA";"AEW";"AEW/NJPW";"AJPW";"AJW";"BJW";"CMLL";"CWF";"Dragon Gate";"ECW";"JTO";"JWP";"Michinoku Pro";"NEW";"NJPW";"NJPW/RevPro";"OTT";"NXT";"NOAH";"NWA";"PWG";"RevPro";"ROH";"SMW";"ROH/NJPW";"STARDOM";"TNA";"UWF";"WCW";"WCW/AAA";"West Coast";"Wrestlecon";"WWE";"WWF";"WWW"},{"1PW";"AAA";"AEW";"AEW/NJPW";"AJPW";"AJW";"BJW";"CMLL";"CWF";"Dragon Gate";"ECW";"JTO";"JWP";"Michinoku Pro";"NEW";"NJPW";"NJPW/RevPro";"OTT";"NXT";"NOAH";"NWA";"PWG";"RevPro";"ROH";"SMW";"ROH/NJPW";"STARDOM";"TNA";"UWF";"WCW";"WCW/AAA";"West Coast";"Wrestlecon";"WWE";"WWF";"WWW"}) -> NJPW | I25: NJPW Best of the Super Juniors XXV - Day 14
A26: ="ID" & (ROW(A26)-2) -> ID24 | B26: 5.5 | C26: August 4th | D26: 2018 | E26: Tomohiro Ishii | F26: Kenny Omega | G26: =LOOKUP(I26,{"1PW";"AAA";"AEW";"AEW/NJPW";"AJPW";"AJW";"BJW";"CMLL";"CWF";"Dragon Gate";"ECW";"JTO";"JWP";"Michinoku Pro";"NEW";"NJPW";"NJPW/RevPro";"OTT";"NXT";"NOAH";"NWA";"PWG";"RevPro";"ROH";"SMW";"ROH/NJPW";"STARDOM";"TNA";"UWF";"WCW";"WCW/AAA";"West Coast";"Wrestlecon";"WWE";"WWF";"WWW"},{"1PW";"AAA";"AEW";"AEW/NJPW";"AJPW";"AJW";"BJW";"CMLL";"CWF";"Dragon Gate";"ECW";"JTO";"JWP";"Michinoku Pro";"NEW";"NJPW";"NJPW/RevPro";"OTT";"NXT";"NOAH";"NWA";"PWG";"RevPro";"ROH";"SMW";"ROH/NJPW";"STARDOM";"TNA";"UWF";"WCW";"WCW/AAA";"West Coast";"Wrestlecon";"WWE";"WWF";"WWW"}) -> NJPW | I26: NJPW G1 Climax 2018 - Day 14
A27: ="ID" & (ROW(A27)-2) -> ID25 | B27: 5.5 | C27: August 11th | D27: 2018 | E27: Kota Ibushi | F27: Kenny Omega | G27: =LOOKUP(I27,{"1PW";"AAA";"AEW";"AEW/NJPW";"AJPW";"AJW";"BJW";"CMLL";"CWF";"Dragon Gate";"ECW";"JTO";"JWP";"Michinoku Pro";"NEW";"NJPW";"NJPW/RevPro";"OTT";"NXT";"NOAH";"NWA";"PWG";"RevPro";"ROH";"SMW";"ROH/NJPW";"STARDOM";"TNA";"UWF";"WCW";"WCW/AAA";"West Coast";"Wrestlecon";"WWE";"WWF";"WWW"},{"1PW";"AAA";"AEW";"AEW/NJPW";"AJPW";"AJW";"BJW";"CMLL";"CWF";"Dragon Gate";"ECW";"JTO";"JWP";"Michinoku Pro";"NEW";"NJPW";"NJPW/RevPro";"OTT";"NXT";"NOAH";"NWA";"PWG";"RevPro";"ROH";"SMW";"ROH/NJPW";"STARDOM";"TNA";"UWF";"WCW";"WCW/AAA";"West Coast";"Wrestlecon";"WWE";"WWF";"WWW"}) -> NJPW | I27: NJPW G1 Climax 2018 - Day 18
A28: ="ID" & (ROW(A28)-2) -> ID26 | B28: 5.5 | C28: August 8th | D28: 2019 | E28: Shingo Takagi | F28: Tomohiro Ishii | G28: =LOOKUP(I28,{"1PW";"AAA";"AEW";"AEW/NJPW";"AJPW";"AJW";"BJW";"CMLL";"CWF";"Dragon Gate";"ECW";"JTO";"JWP";"Michinoku Pro";"NEW";"NJPW";"NJPW/RevPro";"OTT";"NXT";"NOAH";"NWA";"PWG";"RevPro";"ROH";"SMW";"ROH/NJPW";"STARDOM";"TNA";"UWF";"WCW";"WCW/AAA";"West Coast";"Wrestlecon";"WWE";"WWF";"WWW"},{"1PW";"AAA";"AEW";"AEW/NJPW";"AJPW";"AJW";"BJW";"CMLL";"CWF";"Dragon Gate";"ECW";"JTO";"JWP";"Michinoku Pro";"NEW";"NJPW";"NJPW/RevPro";"OTT";"NXT";"NOAH";"NWA";"PWG";"RevPro";"ROH";"SMW";"ROH/NJPW";"STARDOM";"TNA";"UWF";"WCW";"WCW/AAA";"West Coast";"Wrestlecon";"WWE";"WWF";"WWW"}) -> NJPW | I28: NJPW G1 Climax 2019 - Day 16
A29: ="ID" & (ROW(A29)-2) -> ID27 | B29: 5.5 | C29: August 12th | D29: 2019 | E29: Kota Ibushi | F29: Jay White | G29: =LOOKUP(I29,{"1PW";"AAA";"AEW";"AEW/NJPW";"AJPW";"AJW";"BJW";"CMLL";"CWF";"Dragon Gate";"ECW";"JTO";"JWP";"Michinoku Pro";"NEW";"NJPW";"NJPW/RevPro";"OTT";"NXT";"NOAH";"NWA";"PWG";"RevPro";"ROH";"SMW";"ROH/NJPW";"STARDOM";"TNA";"UWF";"WCW";"WCW/AAA";"West Coast";"Wrestlecon";"WWE";"WWF";"WWW"},{"1PW";"AAA";"AEW";"AEW/NJPW";"AJPW";"AJW";"BJW";"CMLL";"CWF";"Dragon Gate";"ECW";"JTO";"JWP";"Michinoku Pro";"NEW";"NJPW";"NJPW/RevPro";"OTT";"NXT";"NOAH";"NWA";"PWG";"RevPro";"ROH";"SMW";"ROH/NJPW";"STARDOM";"TNA";"UWF";"WCW";"WCW/AAA";"West Coast";"Wrestlecon";"WWE";"WWF";"WWW"}) -> NJPW | I29: NJPW G1 Climax 2019 - Day 19: Finals
A30: ="ID" & (ROW(A30)-2) -> ID28 | B30: 5.5 | C30: September 18th | D30: 2021 | E30: Shingo Takagi | F30: Tomohiro Ishii | G30: =LOOKUP(I30,{"1PW";"AAA";"AEW";"AEW/NJPW";"AJPW";"AJW";"BJW";"CMLL";"CWF";"Dragon Gate";"ECW";"JTO";"JWP";"Michinoku Pro";"NEW";"NJPW";"NJPW/RevPro";"OTT";"NXT";"NOAH";"NWA";"PWG";"RevPro";"ROH";"SMW";"ROH/NJPW";"STARDOM";"TNA";"UWF";"WCW";"WCW/AAA";"West Coast";"Wrestlecon";"WWE";"WWF";"WWW"},{"1PW";"AAA";"AEW";"AEW/NJPW";"AJPW";"AJW";"BJW";"CMLL";"CWF";"Dragon Gate";"ECW";"JTO";"JWP";"Michinoku Pro";"NEW";"NJPW";"NJPW/RevPro";"OTT";"NXT";"NOAH";"NWA";"PWG";"RevPro";"ROH";"SMW";"ROH/NJPW";"STARDOM";"TNA";"UWF";"WCW";"WCW/AAA";"West Coast";"Wrestlecon";"WWE";"WWF";"WWW"}) -> NJPW | I30: NJPW G1 Climax 2021 - Day 1
A31: ="ID" & (ROW(A31)-2) -> ID29 | B31: 5.5 | C31: August 6th | D31: 2022 | E31: Shingo Takagi | F31: Will Ospreay | G31: =LOOKUP(I31,{"1PW";"AAA";"AEW";"AEW/NJPW";"AJPW";"AJW";"BJW";"CMLL";"CWF";"Dragon Gate";"ECW";"JTO";"JWP";"Michinoku Pro";"NEW";"NJPW";"NJPW/RevPro";"OTT";"NXT";"NOAH";"NWA";"PWG";"RevPro";"ROH";"SMW";"ROH/NJPW";"STARDOM";"TNA";"UWF";"WCW";"WCW/AAA";"West Coast";"Wrestlecon";"WWE";"WWF";"WWW"},{"1PW";"AAA";"AEW";"AEW/NJPW";"AJPW";"AJW";"BJW";"CMLL";"CWF";"Dragon Gate";"ECW";"JTO";"JWP";"Michinoku Pro";"NEW";"NJPW";"NJPW/RevPro";"OTT";"NXT";"NOAH";"NWA";"PWG";"RevPro";"ROH";"SMW";"ROH/NJPW";"STARDOM";"TNA";"UWF";"WCW";"WCW/AAA";"West Coast";"Wrestlecon";"WWE";"WWF";"WWW"}) -> NJPW | I31: NJPW G1 Climax 2022 - Day 12
A32: ="ID" & (ROW(A32)-2) -> ID30 | B32: 5.5 | C32: March 21st | D32: 2021 | E32: Will Ospreay | F32: Shingo Takagi | G32: =LOOKUP(I32,{"1PW";"AAA";"AEW";"AEW/NJPW";"AJPW";"AJW";"BJW";"CMLL";"CWF";"Dragon Gate";"ECW";"JTO";"JWP";"Michinoku Pro";"NEW";"NJPW";"NJPW/RevPro";"OTT";"NXT";"NOAH";"NWA";"PWG";"RevPro";"ROH";"SMW";"ROH/NJPW";"STARDOM";"TNA";"UWF";"WCW";"WCW/AAA";"West Coast";"Wrestlecon";"WWE";"WWF";"WWW"},{"1PW";"AAA";"AEW";"AEW/NJPW";"AJPW";"AJW";"BJW";"CMLL";"CWF";"Dragon Gate";"ECW";"JTO";"JWP";"Michinoku Pro";"NEW";"NJPW";"NJPW/RevPro";"OTT";"NXT";"NOAH";"NWA";"PWG";"RevPro";"ROH";"SMW";"ROH/NJPW";"STARDOM";"TNA";"UWF";"WCW";"WCW/AAA";"West Coast";"Wrestlecon";"WWE";"WWF";"WWW"}) -> NJPW | I32: NJPW New Japan Cup 2021 - Day 13
A33: ="ID" & (ROW(A33)-2) -> ID31 | B33: 5.5 | C33: January 4th | D33: 2020 | E33: Hiromu Takahashi | F33: Will Ospreay | G33: =LOOKUP(I33,{"1PW";"AAA";"AEW";"AEW/NJPW";"AJPW";"AJW";"BJW";"CMLL";"CWF";"Dragon Gate";"ECW";"JTO";"JWP";"Michinoku Pro";"NEW";"NJPW";"NJPW/RevPro";"OTT";"NXT";"NOAH";"NWA";"PWG";"RevPro";"ROH";"SMW";"ROH/NJPW";"STARDOM";"TNA";"UWF";"WCW";"WCW/AAA";"West Coast";"Wrestlecon";"WWE";"WWF";"WWW"},{"1PW";"AAA";"AEW";"AEW/NJPW";"AJPW";"AJW";"BJW";"CMLL";"CWF";"Dragon Gate";"ECW";"JTO";"JWP";"Michinoku Pro";"NEW";"NJPW";"NJPW/RevPro";"OTT";"NXT";"NOAH";"NWA";"PWG";"RevPro";"ROH";"SMW";"ROH/NJPW";"STARDOM";"TNA";"UWF";"WCW";"WCW/AAA";"West Coast";"Wrestlecon";"WWE";"WWF";"WWW"}) -> NJPW | H33: IWGP Junior Heavyweight Title | I33: NJPW Wrestle Kingdom 14 - Day 1
A34: ="ID" & (ROW(A34)-2) -> ID32 | B34: 5.5 | C34: May 4th | D34: 2018 | E34: Kazuchika Okada | F34: Hiroshi Tanahashi | G34: =LOOKUP(I34,{"1PW";"AAA";"AEW";"AEW/NJPW";"AJPW";"AJW";"BJW";"CMLL";"CWF";"Dragon Gate";"ECW";"JTO";"JWP";"Michinoku Pro";"NEW";"NJPW";"NJPW/RevPro";"OTT";"NXT";"NOAH";"NWA";"PWG";"RevPro";"ROH";"SMW";"ROH/NJPW";"STARDOM";"TNA";"UWF";"WCW";"WCW/AAA";"West Coast";"Wrestlecon";"WWE";"WWF";"WWW"},{"1PW";"AAA";"AEW";"AEW/NJPW";"AJPW";"AJW";"BJW";"CMLL";"CWF";"Dragon Gate";"ECW";"JTO";"JWP";"Michinoku Pro";"NEW";"NJPW";"NJPW/RevPro";"OTT";"NXT";"NOAH";"NWA";"PWG";"RevPro";"ROH";"SMW";"ROH/NJPW";"STARDOM";"TNA";"UWF";"WCW";"WCW/AAA";"West Coast";"Wrestlecon";"WWE";"WWF";"WWW"}) -> NJPW | H34: IWGP Heavyweight Title | I34: NJPW Wrestling Dontaku 2018 - Day 2
A35: ="ID" & (ROW(A35)-2) -> ID33 | B35: 5.5 | C35: April 5th | D35: 2019 | E35: Johnny Gargano | F35: Adam Cole | G35: NXT | H35: NXT Title | I35: NXT TakeOver: New York
A36: ="ID" & (ROW(A36)-2) -> ID34 | B36: 5.5 | C36: December 10th | D36: 2022 | E36: Jay Briscoe, Mark Briscoe | F36: Cash Wheeler, Dax Harwood | G36: =LOOKUP(I36,{"1PW";"AAA";"AEW";"AEW/NJPW";"AJPW";"AJW";"BJW";"CMLL";"CWF";"Dragon Gate";"ECW";"JTO";"JWP";"Michinoku Pro";"NEW";"NJPW";"NJPW/RevPro";"OTT";"NXT";"NOAH";"NWA";"PWG";"RevPro";"ROH";"SMW";"ROH/NJPW";"STARDOM";"TNA";"UWF";"WCW";"WCW/AAA";"West Coast";"Wrestlecon";"WWE";"WWF";"WWW"},{"1PW";"AAA";"AEW";"AEW/NJPW";"AJPW";"AJW";"BJW";"CMLL";"CWF";"Dragon Gate";"ECW";"JTO";"JWP";"Michinoku Pro";"NEW";"NJPW";"NJPW/RevPro";"OTT";"NXT";"NOAH";"NWA";"PWG";"RevPro";"ROH";"SMW";"ROH/NJPW";"STARDOM";"TNA";"UWF";"WCW";"WCW/AAA";"West Coast";"Wrestlecon";"WWE";"WWF";"WWW"}) -> ROH | H36: ROH Tag Team Title | I36: ROH Final Battle 2022
A37: ="ID" & (ROW(A37)-2) -> ID35 | B37: 5.5 | C37: June 12th | D37: 2021 | E37: Utami Hayashishita | F37: Syuri | G37: =LOOKUP(I37,{"1PW";"AAA";"AEW";"AEW/NJPW";"AJPW";"AJW";"BJW";"CMLL";"CWF";"Dragon Gate";"ECW";"JTO";"JWP";"Michinoku Pro";"NEW";"NJPW";"NJPW/RevPro";"OTT";"NXT";"NOAH";"NWA";"PWG";"RevPro";"ROH";"SMW";"ROH/NJPW";"STARDOM";"TNA";"UWF";"WCW";"WCW/AAA";"West Coast";"Wrestlecon";"WWE";"WWF";"WWW"},{"1PW";"AAA";"AEW";"AEW/NJPW";"AJPW";"AJW";"BJW";"CMLL";"CWF";"Dragon Gate";"ECW";"JTO";"JWP";"Michinoku Pro";"NEW";"NJPW";"NJPW/RevPro";"OTT";"NXT";"NOAH";"NWA";"PWG";"RevPro";"ROH";"SMW";"ROH/NJPW";"STARDOM";"TNA";"UWF";"WCW";"WCW/AAA";"West Coast";"Wrestlecon";"WWE";"WWF";"WWW"}) -> STARDOM | H37: World Of Stardom Title | I37: STARDOM Tokyo Dream Cinderella 2021 Special Edition
A38: ="ID" & (ROW(A38)-2) -> ID36 | B38: 5.25 | C38: August 31st | D38: 2019 | E38: Pentagon Jr., Rey Fenix | F38: Matt Jackson, Nick Jackson | G38: =LOOKUP(I38,{"1PW";"AAA";"AEW";"AEW/NJPW";"AJPW";"AJW";"BJW";"CMLL";"CWF";"Dragon Gate";"ECW";"JTO";"JWP";"Michinoku Pro";"NEW";"NJPW";"NJPW/RevPro";"OTT";"NXT";"NOAH";"NWA";"PWG";"RevPro";"ROH";"SMW";"ROH/NJPW";"STARDOM";"TNA";"UWF";"WCW";"WCW/AAA";"West Coast";"Wrestlecon";"WWE";"WWF";"WWW"},{"1PW";"AAA";"AEW";"AEW/NJPW";"AJPW";"AJW";"BJW";"CMLL";"CWF";"Dragon Gate";"ECW";"JTO";"JWP";"Michinoku Pro";"NEW";"NJPW";"NJPW/RevPro";"OTT";"NXT";"NOAH";"NWA";"PWG";"RevPro";"ROH";"SMW";"ROH/NJPW";"STARDOM";"TNA";"UWF";"WCW";"WCW/AAA";"West Coast";"Wrestlecon";"WWE";"WWF";"WWW"}) -> AEW | H38: AEW Tag Team Title | I38: AEW All Out
A39: ="ID" & (ROW(A39)-2) -> ID37 | B39: 5.25 | C39: July 15th | D39: 2023 | E39: Cash Wheeler, Dax Harwood | F39: Jay White, Juice Robinson | G39: =LOOKUP(I39,{"1PW";"AAA";"AEW";"AEW/NJPW";"AJPW";"AJW";"BJW";"CMLL";"CWF";"Dragon Gate";"ECW";"JTO";"JWP";"Michinoku Pro";"NEW";"NJPW";"NJPW/RevPro";"OTT";"NXT";"NOAH";"NWA";"PWG";"RevPro";"ROH";"SMW";"ROH/NJPW";"STARDOM";"TNA";"UWF";"WCW";"WCW/AAA";"West Coast";"Wrestlecon";"WWE";"WWF";"WWW"},{"1PW";"AAA";"AEW";"AEW/NJPW";"AJPW";"AJW";"BJW";"CMLL";"CWF";"Dragon Gate";"ECW";"JTO";"JWP";"Michinoku Pro";"NEW";"NJPW";"NJPW/RevPro";"OTT";"NXT";"NOAH";"NWA";"PWG";"RevPro";"ROH";"SMW";"ROH/NJPW";"STARDOM";"TNA";"UWF";"WCW";"WCW/AAA";"West Coast";"Wrestlecon";"WWE";"WWF";"WWW"}) -> AEW | H39: AEW Tag Team Title | I39: AEW Collision #5
A40: ="ID" & (ROW(A40)-2) -> ID38 | B40: 5.25 | C40: November 7th | D40: 2020 | E40: Matt Jackson, Nick Jackson | F40: Cash Wheeler, Dax Harwood | G40: =LOOKUP(I40,{"1PW";"AAA";"AEW";"AEW/NJPW";"AJPW";"AJW";"BJW";"CMLL";"CWF";"Dragon Gate";"ECW";"JTO";"JWP";"Michinoku Pro";"NEW";"NJPW";"NJPW/RevPro";"OTT";"NXT";"NOAH";"NWA";"PWG";"RevPro";"ROH";"SMW";"ROH/NJPW";"STARDOM";"TNA";"UWF";"WCW";"WCW/AAA";"West Coast";"Wrestlecon";"WWE";"WWF";"WWW"},{"1PW";"AAA";"AEW";"AEW/NJPW";"AJPW";"AJW";"BJW";"CMLL";"CWF";"Dragon Gate";"ECW";"JTO";"JWP";"Michinoku Pro";"NEW";"NJPW";"NJPW/RevPro";"OTT";"NXT";"NOAH";"NWA";"PWG";"RevPro";"ROH";"SMW";"ROH/NJPW";"STARDOM";"TNA";"UWF";"WCW";"WCW/AAA";"West Coast";"Wrestlecon";"WWE";"WWF";"WWW"}) -> AEW | H40: AEW Tag Team Title | I40: AEW Full Gear 2020
...

Sheet Attendance Stats
A1: WRESTLING OBSERVER NEWSLETTER RATINGS. Attendance/City&Country/Venue
A2: ID | B2: Show Name | C2: Date | D2: Attendance | E2: City | F2: Country | G2: Venue | H2: Promotion | I2: * Red box and '0' for possible covid restrictions | J2: * Yellow Box for lack of information | K2: =COUNTIF(G3:G502, "Tokyo Dome") -> 26
A3: ID1 | B3: AEW All In: London | C3: August 27th | D3: 81035 | E3: London | F3: UK | G3: Wembley Stadium | H3: AEW
A4: ID2 | B4: AEW All In: London | C4: August 27th | D4: 81035 | E4: London | F4: UK | G4: Wembley Stadium | H4: AEW
A5: ID3 | B5: WWE WrestleMania 39 - Night 2 | C5: April 2nd | D5: 67553 | E5: Inglewood | F5: USA | G5: SoFi Stadium | H5: WWE
A6: ID4 | B6: WWE WrestleMania 39 - Night 1 | C6: April 1st | D6: 67303 | E6: Inglewood | F6: USA | G6: SoFi Stadium | H6: WWE
A7: ID5 | B7: WWE WrestleMania 39 - Night 1 | C7: April 1st | D7: 67303 | E7: Inglewood | F7: USA | G7: SoFi Stadium | H7: WWE
A8: ID6 | B8: WWE Clash At The Castle | C8: September 3rd | D8: 62,296 | E8: Cardiff | F8: UK | G8: Principality Stadium | H8: WWE
A9: ID7 | B9: AJPW 25th Anniversary Show | C9: October 31st | D9: 58300 | E9: Tokyo | F9: Japan | G9: Tokyo Dome | H9: AJPW
A10: ID8 | B10: NOAH Departure '04 | C10: July 10th | D10: 58,000 | E10: Tokyo | F10: Japan | G10: Tokyo Dome | H10: NOAH
A11: ID9 | B11: WWE Royal Rumble '17 | C11: January 29th | D11: 52,020 | E11: San Antonio | F11: USA | G11: Alamodome | H11: WWE
A12: ID10 | B12: NJPW WrestleKingdom 12 | C12: January 4th | D12: 43,000 | E12: Tokyo | F12: Japan | G12: Tokyo Dome | H12: NJPW
A13: ID11 | B13: AJW Big Egg Universe | C13: November 20th | D13: 42500 | E13: Tokyo | F13: Japan | G13: Tokyo Dome | H13: AJW
A14: ID12 | B14: NJPW Wrestle Kingdom 14 - Day 1 | C14: January 4th | D14: 40,008 | E14: Tokyo | F14: Japan | G14: Tokyo Dome | H14: NJPW
A15: ID13 | B15: NJPW Wrestle Kingdom 14 - Day 1 | C15: January 4th | D15: 40,008 | E15: Tokyo | F15: Japan | G15: Tokyo Dome | H15: NJPW
A16: ID14 | B16: NJPW WrestleKingdom 13 | C16: January 4th | D16: 38,162 | E16: Tokyo | F16: Japan | G16: Tokyo Dome | H16: NJPW
A17: ID15 | B17: NJPW WrestleKingdom 13 | C17: January 4th | D17: 38162 | E17: Tokyo | F17: Japan | G17: Tokyo Dome | H17: NJPW
A18: ID16 | B18: NJPW WrestleKingdom 13 | C18: January 4th | D18: 38,162 | E18: Tokyo | F18: Japan | G18: Tokyo Dome | H18: NJPW
A19: ID17 | B19: NJPW Wrestle Kingdom 9 | C19: January 4th | D19: 36,000 | E19: Tokyo | F19: Japan | G19: Tokyo Dome | H19: NJPW
A20: ID18 | B20: NJPW Wrestle Kingdom 9 | C20: January 4th | D20: 36,000 | E20: Tokyo | F20: Japan | G20: Tokyo Dome | H20: NJPW
A21: ID19 | B21: NJPW WrestleKingdom 12 | C21: January 4th | D21: 34995 | E21: Tokyo | F21: Japan | G21: Tokyo Dome | H21: NJPW
A22: ID20 | B22: NOAH Keiji Muto Grand Final Pro-Wrestling "Last" Love Hold Out | C22: Feburary 21st | D22: 30,069 | E22: Tokyo | F22: Japan | G22: Tokyo Dome | H22: NOAH
A23: ID21 | B23: NJPW Wrestle Kingdom 14 - Day 2 | C23: January 5th | D23: 30,063 | E23: Tokyo | F23: Japan | G23: Tokyo Dome | H23: NJPW
A24: ID22 | B24: NJPW Wrestle Kingdom XI | C24: January 4th | D24: 26,192 | E24: Tokyo | F24: Japan | G24: Tokyo Dome | H24: NJPW
A25: ID23 | B25: NJPW Wrestle Kingdom 17 | C25: January 4th | D25: 26085 | E25: Tokyo | F25: Japan | G25: Tokyo Dome | H25: NJPW
A26: ID24 | B26: NJPW Wrestle Kingdom 10 | C26: January 4th | D26: 25,204 | E26: Tokyo | F26: Japan | G26: Tokyo Dome | H26: NJPW
A27: ID25 | B27: NJPW Wrestle Kingdom 10 | C27: January 4th | D27: 25,204 | E27: Tokyo | F27: Japan | G27: Tokyo Dome | H27: NJPW
A28: ID26 | B28: WWF SummerSlam '94 | C28: August 29th | D28: 23,300 | E28: Chicago | F28: USA | G28: United Center | H28: WWF
A29: ID27 | B29: WWE Crown Jewel 2021 | C29: October 21st | D29: 22000 | E29: Riyadh | F29: Saudi Arabia | G29: Mohammed Abdu Arena On The Boulevard | H29: WWE
A30: ID28 | B30: WWF In Your House 18: Badd Blood | C30: October 5th | D30: 21,151 | E30: St. Louis | F30: USA | G30: Kiel Center | H30: WWF
A31: ID29 | B31: AEW Dynamite #103 - Grand Slam | C31: September 22nd | D31: 20,177 | E31: New York City | F31: USA | G31: Arthur Ashe Stadium | H31: AEW
A32: ID30 | B32: WWF WrestleMania 13 | C32: March 23rd | D32: 18,197 | E32: Rosemont | F32: USA | G32: Rosemont Horizon | H32: WWF
A33: ID31 | B33: WWF WrestleMania X | C33: March 20th | D33: 18065 | E33: New York City | F33: USA | G33: Madison Square Garden | H33: WWF
A34: ID32 | B34: NWA Jim Crockett Sr. Memorial Cup '87 - Day 2 | C34: April 11th | D34: 18,000 | E34: Baltimore | F34: USA | G34: Baltimore Arena | H34: NWA
A35: ID33 | B35: NJPW G1 Climax 24 - Day 12 Finals | C35: August 10th | D35: 18,000 | E35: Tokorozawa | F35: Japan | G35: Seibu Dome | H35: NJPW
A36: ID34 | B36: WWE Royal Rumble '15 | C36: January 25th | D36: 17,164 | E36: Philadelphia | F36: USA | G36: Wells Fargo Center | H36: WWE
A37: ID35 | B37: NOAH Navigate for Evolution '03 - Day 9 | C37: March 1st | D37: 16700 | E37: Tokyo | F37: Japan | G37: Nippon Budokan | H37: NOAH
A38: ID36 | B38: ROH/NJPW G1 SuperCard | C38: April 6th | D38: 16,534 | E38: New York City | F38: USA | G38: Madison Square Garden | H38: NJPW/ROH
A39: ID37 | B39: AJW Dream Slam 1 | C39: April 2nd | D39: 16500 | E39: Yokohama | F39: Japan | G39: Yokohama Arena | H39: AJW
A40: ID38 | B40: AJW Dream Slam 1 | C40: April 2nd | D40: 16500 | E40: Yokohama | F40: Japan | G40: Yokohama Arena | H40: AJW
...

Sheet Show Search
K2: AEW
K3: October 6th
K4: Philadelphia
K5: 7,040

Sheet Wrestler Stats
A1: Wrestler | B1: No. of Appearences in Top 500 | C1: Highest Rating | D1: Wins | E1: Loses | F1: % Win Ratio
A2: Will Ospreay | B2: 29 | C2: 6.25 | D2: {=SUMPRODUCT(--(ISNUMBER(SEARCH(A$2,'Star Ratings (TOP 500)'!$E$2:$E$502))))} -> 45 | E2: {=SUMPRODUCT(--(ISNUMBER(SEARCH(A2,'Star Ratings (TOP 500)'!$F$2:$F$502))))} -> 25 | F2: =(D2 / $D$32) * 100% -> 0.12784091
A3: Kazuchika Okada | B3: 25 | C3: 7 | D3: {=SUMPRODUCT(--(ISNUMBER(SEARCH(A3,'Star Ratings (TOP 500)'!$E$2:$E$502))))} -> 36 | E3: {=SUMPRODUCT(--(ISNUMBER(SEARCH(A3,'Star Ratings (TOP 500)'!$F$2:$F$502))))} -> 23 | F3: =(D3 / $D$32) * 100% -> 0.10227273
A4: Kenny Omega | B4: 25 | C4: 7 | D4: 31 | E4: 18 | F4: =(D4 / $D$32) * 100% -> 0.088068182
A5: Mitsuharu Misawa | B5: 25 | C5: 5 | D5: {=SUMPRODUCT(--(ISNUMBER(SEARCH(A5,'Star Ratings (TOP 500)'!$E$2:$E$502))))} -> 18 | E5: {=SUMPRODUCT(--(ISNUMBER(SEARCH(A5,'Star Ratings (TOP 500)'!$F$2:$F$502))))} -> 6 | F5: =(D5 / $D$32) * 100% -> 0.051136364
A6: Kenta Kobashi | B6: 23 | C6: 5 | D6: {=SUMPRODUCT(--(ISNUMBER(SEARCH(A6,'Star Ratings (TOP 500)'!$E$2:$E$502))))} -> 15 | E6: {=SUMPRODUCT(--(ISNUMBER(SEARCH(A6,'Star Ratings (TOP 500)'!$F$2:$F$502))))} -> 8 | F6: =(D6 / $D$32) * 100% -> 0.042613636
A7: Toshiaki Kawada | B7: 21 | C7: 5 | D7: {=SUMPRODUCT(--(ISNUMBER(SEARCH(A7,'Star Ratings (TOP 500)'!$E$2:$E$502))))} -> 9 | E7: {=SUMPRODUCT(--(ISNUMBER(SEARCH(A7,'Star Ratings (TOP 500)'!$F$2:$F$502))))} -> 12 | F7: =(D7 / $D$32) * 100% -> 0.025568182
A8: Shingo Takagi | B8: 17 | C8: 6 | D8: {=SUMPRODUCT(--(ISNUMBER(SEARCH(A8,'Star Ratings (TOP 500)'!$E$2:$E$502))))} -> 15 | E8: {=SUMPRODUCT(--(ISNUMBER(SEARCH(A8,'Star Ratings (TOP 500)'!$F$2:$F$502))))} -> 13 | F8: =(D8 / $D$32) * 100% -> 0.042613636
A9: Hiroshi Tanahashi | B9: 16 | C9: 5.75 | D9: {=SUMPRODUCT(--(ISNUMBER(SEARCH(A9,'Star Ratings (TOP 500)'!$E$2:$E$502))))} -> 17 | E9: {=SUMPRODUCT(--(ISNUMBER(SEARCH(A9,'Star Ratings (TOP 500)'!$F$2:$F$502))))} -> 17 | F9: =(D9 / $D$32) * 100% -> 0.048295455
A10: Akira Taue | B10: 15 | C10: 5 | D10: {=SUMPRODUCT(--(ISNUMBER(SEARCH(A10,'Star Ratings (TOP 500)'!$E$2:$E$502))))} -> 4 | E10: {=SUMPRODUCT(--(ISNUMBER(SEARCH(A10,'Star Ratings (TOP 500)'!$F$2:$F$502))))} -> 11 | F10: =(D10 / $D$32) * 100% -> 0.011363636
A11: Kota Ibushi | B11: 13 | C11: 5.75 | D11: {=SUMPRODUCT(--(ISNUMBER(SEARCH(A11,'Star Ratings (TOP 500)'!$E$2:$E$502))))} -> 19 | E11: {=SUMPRODUCT(--(ISNUMBER(SEARCH(A11,'Star Ratings (TOP 500)'!$F$2:$F$502))))} -> 14 | F11: =(D11 / $D$32) * 100% -> 0.053977273
A12: Manami Toyota | B12: 13 | C12: 5 | D12: {=SUMPRODUCT(--(ISNUMBER(SEARCH(A12,'Star Ratings (TOP 500)'!$E$2:$E$502))))} -> 7 | E12: {=SUMPRODUCT(--(ISNUMBER(SEARCH(A12,'Star Ratings (TOP 500)'!$F$2:$F$502))))} -> 6 | F12: =(D12 / $D$32) * 100% -> 0.019886364
A13: Ric Flair | B13: 12 | C13: 6 | D13: {=SUMPRODUCT(--(ISNUMBER(SEARCH(A13,'Star Ratings (TOP 500)'!$E$2:$E$502))))} -> 6 | E13: {=SUMPRODUCT(--(ISNUMBER(SEARCH(A13,'Star Ratings (TOP 500)'!$F$2:$F$502))))} -> 6 | F13: =(D13 / $D$32) * 100% -> 0.017045455
A14: Matt Jackson | B14: 11 | C14: 6 | D14: {=SUMPRODUCT(--(ISNUMBER(SEARCH(A14,'Star Ratings (TOP 500)'!$E$2:$E$502))))} -> 15 | E14: {=SUMPRODUCT(--(ISNUMBER(SEARCH(A14,'Star Ratings (TOP 500)'!$F$2:$F$502))))} -> 17 | F14: =(D14 / $D$32) * 100% -> 0.042613636
A15: Nick Jackson | B15: 11 | C15: 6 | D15: {=SUMPRODUCT(--(ISNUMBER(SEARCH(A15,'Star Ratings (TOP 500)'!$E$2:$E$502))))} -> 15 | E15: {=SUMPRODUCT(--(ISNUMBER(SEARCH(A15,'Star Ratings (TOP 500)'!$F$2:$F$502))))} -> 18 | F15: =(D15 / $D$32) * 100% -> 0.042613636
A16: Tetsuya Naito | B16: 11 | C16: 6 | D16: {=SUMPRODUCT(--(ISNUMBER(SEARCH(A16,'Star Ratings (TOP 500)'!$E$2:$E$502))))} -> 13 | E16: {=SUMPRODUCT(--(ISNUMBER(SEARCH(A16,'Star Ratings (TOP 500)'!$F$2:$F$502))))} -> 9 | F16: =(D16 / $D$32) * 100% -> 0.036931818
... A27: Dax Harwood | B27: 6 | C27: 5.5 | D27: {=SUMPRODUCT(--(ISNUMBER(SEARCH(A27,'Star Ratings (TOP 500)'!$E$2:$E$502))))} -> 6 | E27: {=SUMPRODUCT(--(ISNUMBER(SEARCH(A27,'Star Ratings (TOP 500)'!$F$2:$F$502))))} -> 5 | F27: =(D27 / $D$32) * 100% -> 0.017045455
A28: Walter/Gunther | B28: 6 | C28: 5.25 | D28: 8 | E28: 1 | F28: =(D28 / $D$32) * 100% -> 0.022727273
A29: Toshiyo Yamada | B29: 6 | C29: 5 | D29: {=SUMPRODUCT(--(ISNUMBER(SEARCH(A29,'Star Ratings (TOP 500)'!$E$2:$E$502))))} -> 2 | E29: {=SUMPRODUCT(--(ISNUMBER(SEARCH(A29,'Star Ratings (TOP 500)'!$F$2:$F$502))))} -> 4 | F29: =(D29 / $D$32) * 100% -> 0.0056818182
A30: Adam Page | B30: 5 | C30: 6 | D30: {=SUMPRODUCT(--(ISNUMBER(SEARCH(A30,'Star Ratings (TOP 500)'!$E$2:$E$502))))} -> 8 | E30: {=SUMPRODUCT(--(ISNUMBER(SEARCH(A30,'Star Ratings (TOP 500)'!$F$2:$F$502))))} -> 2 | F30: =(D30 / $D$32) * 100% -> 0.022727273
A31: Ricky Steamboat | B31: 5 | C31: 6 | D31: {=SUMPRODUCT(--(ISNUMBER(SEARCH(A31,'Star Ratings (TOP 500)'!$E$2:$E$502))))} -> 4 | E31: {=SUMPRODUCT(--(ISNUMBER(SEARCH(A31,'Star Ratings (TOP 500)'!$F$2:$F$502))))} -> 1 | F31: =(D31 / $D$32) * 100% -> 0.011363636
A32: Totals | B32: =SUBTOTAL(109,Table1[No. of Appearences in Top 500]) -> 370 | D32: =SUBTOTAL(109,Table1[Wins]) -> 352 | E32: =SUBTOTAL(109,Table1[Loses]) -> 286 | F32: =SUBTOTAL(109,Table1[% Win Ratio]) -> 1
